BEGIN:VCALENDAR
VERSION:2.0
PRODID:-ABConcerts-events
METHOD:PUBLISH
BEGIN:VEVENT
TRANSP:OPAQUE
DTSTART:20131027T200000
DTEND:20131027T223000
SUMMARY:Parquet Courts + Mazes
LOCATION:AB Club - staand (Anspachlaan 110\, 1000 Brussel)
DESCRIPTION:Americana/punk in de sfeer van Wire\, Pavement en Minutemen.
URL;VALUE=URI:https://www.abconcerts.be/nl/agenda/parquet-courts-mazes/a105J000001wgsFQAQ
UID:ABConcerts_event_23f970f4-59a0-11eb-8159-5254eb761bff
SEQUENCE:0
DTSTAMP:20260420T025908Z
END:VEVENT
END:VCALENDAR
