BEGIN:VCALENDAR
VERSION:2.0
PRODID:-ABConcerts-events
METHOD:PUBLISH
BEGIN:VEVENT
TRANSP:OPAQUE
DTSTART:20161217T223000
DTEND:20161217T233000
SUMMARY:PAPER HATS - Aftershow CRYSTAL CASTLES
LOCATION:AB Club - staand (Anspachlaan 110\, 1000 Brussel)
DESCRIPTION:Tapes and synthesizers\, where Orbital meets Joy Division!
URL;VALUE=URI:https://www.abconcerts.be/nl/agenda/paper-hats-aftershow-crystal-castles/a105J000001wdS4QAI
UID:ABConcerts_event_c44b6c60-59a0-11eb-8a34-5254eb761bff
SEQUENCE:0
DTSTAMP:20260423T104753Z
END:VEVENT
END:VCALENDAR
