BEGIN:VCALENDAR
VERSION:2.0
PRODID:-ABConcerts-events
METHOD:PUBLISH
BEGIN:VEVENT
TRANSP:OPAQUE
DTSTART:20150218T200000
DTEND:20150218T223000
SUMMARY:Paloma Faith
LOCATION:AB Grote zaal (Anspachlaan 110\, 1000 Brussel)
DESCRIPTION:Strong neo retro soul + Pharrell @ control!
URL;VALUE=URI:https://www.abconcerts.be/nl/agenda/paloma-faith/a105J000001wgvxQAA
UID:ABConcerts_event_32faae42-59a0-11eb-9313-5254eb761bff
SEQUENCE:0
DTSTAMP:20260426T005039Z
END:VEVENT
END:VCALENDAR
