BEGIN:VCALENDAR
VERSION:2.0
PRODID:-ABConcerts-events
METHOD:PUBLISH
BEGIN:VEVENT
TRANSP:OPAQUE
DTSTART:20151202T200000
DTEND:20151202T223000
SUMMARY:Omar Souleyman
LOCATION:AB Box (Anspachlaan 110\, 1000 Brussel)
DESCRIPTION:Dabke disco dance sensation from Syria!
URL;VALUE=URI:https://www.abconcerts.be/nl/agenda/omar-souleyman/a105J000001wdYpQAI
UID:ABConcerts_event_9d1ec9ca-59a0-11eb-98dc-5254eb761bff
SEQUENCE:0
DTSTAMP:20260425T023036Z
END:VEVENT
END:VCALENDAR
