BEGIN:VCALENDAR
VERSION:2.0
PRODID:-ABConcerts-events
METHOD:PUBLISH
BEGIN:VEVENT
TRANSP:OPAQUE
DTSTART:20050604T200000
DTEND:20050604T223000
SUMMARY:Oasis
LOCATION:AB Grote zaal (Anspachlaan 110\, 1000 Brussel)
DESCRIPTION:
URL;VALUE=URI:https://www.abconcerts.be/nl/agenda/oasis/a105J000001wgBbQAI
UID:ABConcerts_event_6f0893a0-599f-11eb-8eb9-5254eb761bff
SEQUENCE:0
DTSTAMP:20260425T182741Z
END:VEVENT
END:VCALENDAR
