BEGIN:VCALENDAR
VERSION:2.0
PRODID:-ABConcerts-events
METHOD:PUBLISH
BEGIN:VEVENT
TRANSP:OPAQUE
DTSTART:20261023T190000
DTEND:20261023T223000
SUMMARY:Noonzy
LOCATION:AB Club - staand (Anspachlaan 110\, 1000 Brussel)
DESCRIPTION:Groovy indiepop met een speelse feel
URL;VALUE=URI:https://www.abconcerts.be/nl/agenda/noonzy/a10Qw00000FjK3ZIAV
UID:ABConcerts_event_1f138de9-2f82-6d9c-8c13-e53ec584549f
SEQUENCE:0
DTSTAMP:20260420T154325Z
END:VEVENT
END:VCALENDAR
