BEGIN:VCALENDAR
VERSION:2.0
PRODID:-ABConcerts-events
METHOD:PUBLISH
BEGIN:VEVENT
TRANSP:OPAQUE
DTSTART:20131018T200000
DTEND:20131018T223000
SUMMARY:Noisia & Foreign Beggars present 'I Am Legion' + Samiyam + D
j Nonames
LOCATION:AB Box (Anspachlaan 110\, 1000 Brussel)
DESCRIPTION:Groningse beatmeisters kruisen degens met Brits grimegeweld
URL;VALUE=URI:https://www.abconcerts.be/nl/agenda/noisia-foreign-beggars-present-i-am-legion-samiyam-dj-nonames/a105J000001wgrnQAA
UID:ABConcerts_event_1b1e01d4-59a0-11eb-aede-5254eb761bff
SEQUENCE:0
DTSTAMP:20260420T013539Z
END:VEVENT
END:VCALENDAR
