BEGIN:VCALENDAR
VERSION:2.0
PRODID:-ABConcerts-events
METHOD:PUBLISH
BEGIN:VEVENT
TRANSP:OPAQUE
DTSTART:20220224T190000
DTEND:20220224T220000
SUMMARY:New date: Voetvolk presents 'Into The Open' - Première
LOCATION:AB Box (Anspachlaan 110\, 1000 Brussel)
DESCRIPTION:Dance meets concert\, dat is de belofte van Into The Open.
URL;VALUE=URI:https://www.abconcerts.be/nl/agenda/new-date-voetvolk-presents-into-the-open-premiere/a105J000001wiFMQAY
UID:ABConcerts_event_817a6b6c-c515-11eb-9886-5254eb761bff
SEQUENCE:0
DTSTAMP:20260419T150058Z
END:VEVENT
END:VCALENDAR
