BEGIN:VCALENDAR
VERSION:2.0
PRODID:-ABConcerts-events
METHOD:PUBLISH
BEGIN:VEVENT
TRANSP:OPAQUE
DTSTART:20221110T183000
DTEND:20221110T223000
SUMMARY:New date: Perturbator
LOCATION:AB Box (Anspachlaan 110\, 1000 Brussel)
DESCRIPTION:Special guests: Health + Author & Punisher
URL;VALUE=URI:https://www.abconcerts.be/nl/agenda/new-date-perturbator/a105J000001wiEZQAY
UID:ABConcerts_event_7b381e9c-59a0-11eb-9975-5254eb761bff
SEQUENCE:0
DTSTAMP:20260426T045932Z
END:VEVENT
END:VCALENDAR
