BEGIN:VCALENDAR
VERSION:2.0
PRODID:-ABConcerts-events
METHOD:PUBLISH
BEGIN:VEVENT
TRANSP:OPAQUE
DTSTART:20220225T190000
DTEND:20220225T223000
SUMMARY:New date: killthelogo
LOCATION:AB Club - staand (Anspachlaan 110\, 1000 Brussel)
DESCRIPTION:Geen reünie\, maar een krachtig vervolg
URL;VALUE=URI:https://www.abconcerts.be/nl/agenda/new-date-killthelogo/a105J000004WYrpQAG
UID:ABConcerts_event_0770124e-c9ee-11eb-897c-5254eb761bff
SEQUENCE:0
DTSTAMP:20260422T181400Z
END:VEVENT
END:VCALENDAR
