BEGIN:VCALENDAR
VERSION:2.0
PRODID:-ABConcerts-events
METHOD:PUBLISH
BEGIN:VEVENT
TRANSP:OPAQUE
DTSTART:20151217T200000
DTEND:20151217T040000
SUMMARY:NEON: THE MAGICIAN - MARTIN SOLVEIG
LOCATION:AB Complex (Anspachlaan 110\, 1000 Brussel)
DESCRIPTION:Alex Adair + Darius + Arches
URL;VALUE=URI:https://www.abconcerts.be/nl/agenda/neon-the-magician-martin-solveig/a105J000001wdY8QAI
UID:ABConcerts_event_ccd0102a-59a0-11eb-a06e-5254eb761bff
SEQUENCE:0
DTSTAMP:20260424T064100Z
END:VEVENT
END:VCALENDAR
