BEGIN:VCALENDAR
VERSION:2.0
PRODID:-ABConcerts-events
METHOD:PUBLISH
BEGIN:VEVENT
TRANSP:OPAQUE
DTSTART:20160928T200000
DTEND:20160928T223000
SUMMARY:Mitski
LOCATION:AB Club - staand (Anspachlaan 110\, 1000 Brussel)
DESCRIPTION:Brooklynse female indierock singer-songwriter
URL;VALUE=URI:https://www.abconcerts.be/nl/agenda/mitski/a105J000001wdUqQAI
UID:ABConcerts_event_c249ecde-59a0-11eb-b146-5254eb761bff
SEQUENCE:0
DTSTAMP:20260421T135750Z
END:VEVENT
END:VCALENDAR
