BEGIN:VCALENDAR
VERSION:2.0
PRODID:-ABConcerts-events
METHOD:PUBLISH
BEGIN:VEVENT
TRANSP:OPAQUE
DTSTART:20251011T193000
DTEND:20251011T223000
SUMMARY:Michael A . Muller (Balmorhea)
LOCATION:Volta (Ossegemstraat 55\, 1080 Sint-Jans-Molenbeek)
DESCRIPTION:Delicate\, meditatieve soundscapes met invloeden uit\npostrock en klassieke muziek
URL;VALUE=URI:https://www.abconcerts.be/nl/agenda/michael-a-muller-balmorhea/a10Qw00000BttK7IAJ
UID:ABConcerts_event_1f053325-1794-6ba4-b872-3d4d3bd6a747
SEQUENCE:0
DTSTAMP:20260425T181541Z
END:VEVENT
END:VCALENDAR
