BEGIN:VCALENDAR
VERSION:2.0
PRODID:-ABConcerts-events
METHOD:PUBLISH
BEGIN:VEVENT
TRANSP:OPAQUE
DTSTART:20240925T190000
DTEND:20240925T223000
SUMMARY:MEUTE
LOCATION:AB Grote zaal (Anspachlaan 110\, 1000 Brussel)
DESCRIPTION:EMPOR 2024
URL;VALUE=URI:https://www.abconcerts.be/nl/agenda/meute/a105J0000091L7UQAU
UID:ABConcerts_event_5dc6ef28-5213-11ee-beb7-52547ec8b846
SEQUENCE:0
DTSTAMP:20260423T164549Z
END:VEVENT
END:VCALENDAR
