BEGIN:VCALENDAR
VERSION:2.0
PRODID:-ABConcerts-events
METHOD:PUBLISH
BEGIN:VEVENT
TRANSP:OPAQUE
DTSTART:20160225T123000
DTEND:20160225T133000
SUMMARY:Meneer Michiels
LOCATION:The Music Village (unknown\, 1000 Brussel)
DESCRIPTION:Complexloos zingend en rappend in het Limburgs
URL;VALUE=URI:https://www.abconcerts.be/nl/agenda/meneer-michiels/a105J000001wdXQQAY
UID:ABConcerts_event_babb32b6-59a0-11eb-b1ad-5254eb761bff
SEQUENCE:0
DTSTAMP:20260423T133658Z
END:VEVENT
END:VCALENDAR
