BEGIN:VCALENDAR
VERSION:2.0
PRODID:-ABConcerts-events
METHOD:PUBLISH
BEGIN:VEVENT
TRANSP:OPAQUE
DTSTART:20150331T200000
DTEND:20150331T223000
SUMMARY:Mauro Pawlowski sings Houben
LOCATION:AB Club - staand (Anspachlaan 110\, 1000 Brussel)
DESCRIPTION:Mauro voor het eerst in gezelschap van een jazzquintet
URL;VALUE=URI:https://www.abconcerts.be/nl/agenda/mauro-pawlowski-sings-houben/a105J000001wdlLQAQ
UID:ABConcerts_event_96fea7a4-59a0-11eb-a605-5254eb761bff
SEQUENCE:0
DTSTAMP:20260422T143846Z
END:VEVENT
END:VCALENDAR
