BEGIN:VCALENDAR
VERSION:2.0
PRODID:-ABConcerts-events
METHOD:PUBLISH
BEGIN:VEVENT
TRANSP:OPAQUE
DTSTART:20140318T200000
DTEND:20140318T223000
SUMMARY:Mark Morriss
LOCATION:AB Salon - zittend (Steenstraat 11\, 1000 Brussel)
DESCRIPTION:The Bluetones zanger gaat solo.
URL;VALUE=URI:https://www.abconcerts.be/nl/agenda/mark-morriss/a105J000001wgt8QAA
UID:ABConcerts_event_993b4564-599f-11eb-8ac0-5254eb761bff
SEQUENCE:0
DTSTAMP:20260422T152810Z
END:VEVENT
END:VCALENDAR
