BEGIN:VCALENDAR
VERSION:2.0
PRODID:-ABConcerts-events
METHOD:PUBLISH
BEGIN:VEVENT
TRANSP:OPAQUE
DTSTART:20190622T200000
DTEND:20190622T223000
SUMMARY:Luz Casal
LOCATION:AB Flex (Anspachlaan 110\, 1000 Brussel)
DESCRIPTION:Piensa en Luz: Que Corra El Aire tour!
URL;VALUE=URI:https://www.abconcerts.be/nl/agenda/luz-casal/a105J000001wd9hQAA
UID:ABConcerts_event_474523ec-599f-11eb-904b-5254eb761bff
SEQUENCE:0
DTSTAMP:20260424T234759Z
END:VEVENT
END:VCALENDAR
