BEGIN:VCALENDAR
VERSION:2.0
PRODID:-ABConcerts-events
METHOD:PUBLISH
BEGIN:VEVENT
TRANSP:OPAQUE
DTSTART:20261119T190000
DTEND:20261119T223000
SUMMARY:Luther
LOCATION:AB Grote zaal (Anspachlaan 110\, 1000 Brussel)
DESCRIPTION:SUBLIME TOUR
URL;VALUE=URI:https://www.abconcerts.be/nl/agenda/luther/a10Qw0000097A8kIAE
UID:ABConcerts_event_1f13d554-ef5e-6f14-a075-0788dbaebae3
SEQUENCE:0
DTSTAMP:20260423T001327Z
END:VEVENT
END:VCALENDAR
