BEGIN:VCALENDAR
VERSION:2.0
PRODID:-ABConcerts-events
METHOD:PUBLISH
BEGIN:VEVENT
TRANSP:OPAQUE
DTSTART:20160318T203000
DTEND:20160318T020000
SUMMARY:Lotto Late Night: Feder + Compuphonic
LOCATION:AB Club - staand (Anspachlaan 110\, 1000 Brussel)
DESCRIPTION:Dans de ziel uit het lijf met de schijf van ’15\n‘Goodbye’!
URL;VALUE=URI:https://www.abconcerts.be/nl/agenda/lotto-late-night-feder-compuphonic/a105J000001wdWIQAY
UID:ABConcerts_event_e120806e-59a0-11eb-aa42-5254eb761bff
SEQUENCE:0
DTSTAMP:20260424T041724Z
END:VEVENT
END:VCALENDAR
