BEGIN:VCALENDAR
VERSION:2.0
PRODID:-ABConcerts-events
METHOD:PUBLISH
BEGIN:VEVENT
TRANSP:OPAQUE
DTSTART:20170929T200000
DTEND:20170929T223000
SUMMARY:Loney Dear
LOCATION:AB Salon - zittend (Steenstraat 11\, 1000 Brussel)
DESCRIPTION:Zweedse singer-songwriter komt nieuw album voorstellen
URL;VALUE=URI:https://www.abconcerts.be/nl/agenda/loney-dear/a105J000001wdMOQAY
UID:ABConcerts_event_e74e92d2-59a0-11eb-951a-5254eb761bff
SEQUENCE:0
DTSTAMP:20260422T171932Z
END:VEVENT
END:VCALENDAR
