BEGIN:VCALENDAR
VERSION:2.0
PRODID:-ABConcerts-events
METHOD:PUBLISH
BEGIN:VEVENT
TRANSP:OPAQUE
DTSTART:20181012T200000
DTEND:20181012T223000
SUMMARY:Little Dots
LOCATION:AB Club - staand (Anspachlaan 110\, 1000 Brussel)
DESCRIPTION:(H)eerlijke subtiele pop
URL;VALUE=URI:https://www.abconcerts.be/nl/agenda/little-dots/a105J000001wdFaQAI
UID:ABConcerts_event_dbfe6902-59a0-11eb-84be-5254eb761bff
SEQUENCE:0
DTSTAMP:20260421T130120Z
END:VEVENT
END:VCALENDAR
