BEGIN:VCALENDAR
VERSION:2.0
PRODID:-ABConcerts-events
METHOD:PUBLISH
BEGIN:VEVENT
TRANSP:OPAQUE
DTSTART:20170330T200000
DTEND:20170330T223000
SUMMARY:Lieven Martens + Typhonian Highlife (Spencer Clark)
LOCATION:AB Salon - zittend (Steenstraat 11\, 1000 Brussel)
DESCRIPTION:Experimentele muziek van Belgische wereldklasse!
URL;VALUE=URI:https://www.abconcerts.be/nl/agenda/lieven-martens-typhonian-highlife-spencer-clark/a105J000001wdP9QAI
UID:ABConcerts_event_8fa325ac-59a0-11eb-a6ec-5254eb761bff
SEQUENCE:0
DTSTAMP:20260423T020939Z
END:VEVENT
END:VCALENDAR
