BEGIN:VCALENDAR
VERSION:2.0
PRODID:-ABConcerts-events
METHOD:PUBLISH
BEGIN:VEVENT
TRANSP:OPAQUE
DTSTART:20130914T160000
DTEND:20130914T180000
SUMMARY:Lecture: Matthew E. White on Dub
LOCATION:AB Salon - zittend (Steenstraat 11\, 1000 Brussel)
DESCRIPTION:Lezing: MATTHEW E. WHITE on DUB
URL;VALUE=URI:https://www.abconcerts.be/nl/agenda/lecture-matthew-e-white-on-dub/a105J000001wgrhQAA
UID:ABConcerts_event_18e2dff2-59a0-11eb-9934-5254eb761bff
SEQUENCE:0
DTSTAMP:20260419T221627Z
END:VEVENT
END:VCALENDAR
