BEGIN:VCALENDAR
VERSION:2.0
PRODID:-ABConcerts-events
METHOD:PUBLISH
BEGIN:VEVENT
TRANSP:OPAQUE
DTSTART:20140404T223000
DTEND:20140404T020000
SUMMARY:Late Night Lotto Vibes IV: The Subs -'Hologram'-afterparty +
 Ashworth
LOCATION:AB Club - staand (Anspachlaan 110\, 1000 Brussel)
DESCRIPTION:Al feestend de nacht in met nieuwe plaat ‘Hologram’!
URL;VALUE=URI:https://www.abconcerts.be/nl/agenda/late-night-lotto-vibes-iv-the-subs-hologram-afterparty-ashworth/a105J000001weE5QAI
UID:ABConcerts_event_c1cd73ac-59a0-11eb-b7fb-5254eb761bff
SEQUENCE:0
DTSTAMP:20260422T185817Z
END:VEVENT
END:VCALENDAR
