BEGIN:VCALENDAR
VERSION:2.0
PRODID:-ABConcerts-events
METHOD:PUBLISH
BEGIN:VEVENT
TRANSP:OPAQUE
DTSTART:20161001T200000
DTEND:20161001T223000
SUMMARY:Låpsley
LOCATION:AB Grote zaal (Anspachlaan 110\, 1000 Brussel)
DESCRIPTION:Doorbraakjaar van BBC Sound Of-artieste
URL;VALUE=URI:https://www.abconcerts.be/nl/agenda/lapsley/a105J000001wdUKQAY
UID:ABConcerts_event_b5469370-59a0-11eb-b792-5254eb761bff
SEQUENCE:0
DTSTAMP:20260423T170304Z
END:VEVENT
END:VCALENDAR
