BEGIN:VCALENDAR
VERSION:2.0
PRODID:-ABConcerts-events
METHOD:PUBLISH
BEGIN:VEVENT
TRANSP:OPAQUE
DTSTART:20150307T200000
DTEND:20150307T223000
SUMMARY:La Muerte
LOCATION:AB Grote zaal (Anspachlaan 110\, 1000 Brussel)
DESCRIPTION:Legendary psycho trashmetal killer from BruxHell
URL;VALUE=URI:https://www.abconcerts.be/nl/agenda/la-muerte/a105J000001wdlxQAA
UID:ABConcerts_event_b40a1880-599e-11eb-ba5c-5254eb761bff
SEQUENCE:0
DTSTAMP:20260423T133729Z
END:VEVENT
END:VCALENDAR
