BEGIN:VCALENDAR
VERSION:2.0
PRODID:-ABConcerts-events
METHOD:PUBLISH
BEGIN:VEVENT
TRANSP:OPAQUE
DTSTART:20170121T200000
DTEND:20170121T223000
SUMMARY:Kommil Foo In Concert
LOCATION:AB Theater (Anspachlaan 110\, 1000 Brussel)
DESCRIPTION:Raf en Mich omringd door een uitgelezen groep muzikanten
URL;VALUE=URI:https://www.abconcerts.be/nl/agenda/kommil-foo-in-concert/a105J000001wdUvQAI
UID:ABConcerts_event_fd3dcb28-599e-11eb-8438-5254eb761bff
SEQUENCE:0
DTSTAMP:20260421T181607Z
END:VEVENT
END:VCALENDAR
