BEGIN:VCALENDAR
VERSION:2.0
PRODID:-ABConcerts-events
METHOD:PUBLISH
BEGIN:VEVENT
TRANSP:OPAQUE
DTSTART:19991231T000000
DTEND:19991231T010000
SUMMARY:Kelela
LOCATION:AB Grote zaal (Anspachlaan 110\, 1000 Brussel)
DESCRIPTION:Zweverige\, soulvolle bass music met Björk als fan!
URL;VALUE=URI:https://www.abconcerts.be/nl/agenda/kelela/a105J000001we41QAA
UID:ABConcerts_event_8c56e46a-59a0-11eb-865a-5254eb761bff
SEQUENCE:0
DTSTAMP:20260422T213505Z
END:VEVENT
END:VCALENDAR
