BEGIN:VCALENDAR
VERSION:2.0
PRODID:-ABConcerts-events
METHOD:PUBLISH
BEGIN:VEVENT
TRANSP:OPAQUE
DTSTART:20141205T200000
DTEND:20141205T223000
SUMMARY:Kate Tempest
LOCATION:AB Club - staand (Anspachlaan 110\, 1000 Brussel)
DESCRIPTION:De vrouwelijke versie van The Streets en Roots Manuva.
URL;VALUE=URI:https://www.abconcerts.be/nl/agenda/kate-tempest/a105J000001wgvXQAQ
UID:ABConcerts_event_404bb604-59a0-11eb-a97d-5254eb761bff
SEQUENCE:0
DTSTAMP:20260422T201055Z
END:VEVENT
END:VCALENDAR
