BEGIN:VCALENDAR
VERSION:2.0
PRODID:-ABConcerts-events
METHOD:PUBLISH
BEGIN:VEVENT
TRANSP:OPAQUE
DTSTART:20161025T200000
DTEND:20161025T223000
SUMMARY:Kara-Lis Coverdale
LOCATION:AB Salon - zittend (Steenstraat 11\, 1000 Brussel)
DESCRIPTION:spannende electronica\, virtuoze componiste
URL;VALUE=URI:https://www.abconcerts.be/nl/agenda/kara-lis-coverdale/a105J000001wdTJQAY
UID:ABConcerts_event_e5be4bc4-59a0-11eb-b2b3-5254eb761bff
SEQUENCE:0
DTSTAMP:20260423T134929Z
END:VEVENT
END:VCALENDAR
