BEGIN:VCALENDAR
VERSION:2.0
PRODID:-ABConcerts-events
METHOD:PUBLISH
BEGIN:VEVENT
TRANSP:OPAQUE
DTSTART:20170228T200000
DTEND:20170228T223000
SUMMARY:Kadhja Bonet
LOCATION:AB Club - staand (Anspachlaan 110\, 1000 Brussel)
DESCRIPTION:Tijdloze soul/jazz met knipoog naar Curtis Mayfield &\nRoberta Flack
URL;VALUE=URI:https://www.abconcerts.be/nl/agenda/kadhja-bonet/a105J000001wdQpQAI
UID:ABConcerts_event_a8986b76-59a0-11eb-9c4d-5254eb761bff
SEQUENCE:0
DTSTAMP:20260423T085526Z
END:VEVENT
END:VCALENDAR
