BEGIN:VCALENDAR
VERSION:2.0
PRODID:-ABConcerts-events
METHOD:PUBLISH
BEGIN:VEVENT
TRANSP:OPAQUE
DTSTART:20160826T120000
DTEND:20160826T223000
SUMMARY:Johan Verminnen + Martine de Kok
LOCATION:Het Warandepark (Warandepark\, 1000 Brussels)
DESCRIPTION:Ambacht en een prachtige verjaardag!
URL;VALUE=URI:https://www.abconcerts.be/nl/agenda/johan-verminnen-martine-de-kok/a105J000001wdUcQAI
UID:ABConcerts_event_e9ba01ac-599e-11eb-8f14-5254eb761bff
SEQUENCE:0
DTSTAMP:20260423T182135Z
END:VEVENT
END:VCALENDAR
