BEGIN:VCALENDAR
VERSION:2.0
PRODID:-ABConcerts-events
METHOD:PUBLISH
BEGIN:VEVENT
TRANSP:OPAQUE
DTSTART:20160528T200000
DTEND:20160528T223000
SUMMARY:Jens Kuross
LOCATION:AB Salon - zittend (Steenstraat 11\, 1000 Brussel)
DESCRIPTION:Amerikaanse singer-songwriter scoort met timide melancholie
URL;VALUE=URI:https://www.abconcerts.be/nl/agenda/jens-kuross/a105J000001wgxQQAQ
UID:ABConcerts_event_c6cd41bc-599f-11eb-b5f0-5254eb761bff
SEQUENCE:0
DTSTAMP:20260423T195228Z
END:VEVENT
END:VCALENDAR
