BEGIN:VCALENDAR
VERSION:2.0
PRODID:-ABConcerts-events
METHOD:PUBLISH
BEGIN:VEVENT
TRANSP:OPAQUE
DTSTART:20181217T200000
DTEND:20181217T223000
SUMMARY:Jasper Steverlinck: Night Prayer
LOCATION:Bozar (Ravensteinstraat 23\, 1000 Brussels)
DESCRIPTION:Ultratopper'\, vol 'Liefde voor muziek'\, nu met full band\nen string quartet.
URL;VALUE=URI:https://www.abconcerts.be/nl/agenda/jasper-steverlinck-night-prayer/a105J000001wdEvQAI
UID:ABConcerts_event_caf5caec-59a0-11eb-903b-5254eb761bff
SEQUENCE:0
DTSTAMP:20260425T023036Z
END:VEVENT
END:VCALENDAR
