BEGIN:VCALENDAR
VERSION:2.0
PRODID:-ABConcerts-events
METHOD:PUBLISH
BEGIN:VEVENT
TRANSP:OPAQUE
DTSTART:20161020T200000
DTEND:20161020T223000
SUMMARY:Jamie Lidell and The Royal Pharaohs
LOCATION:AB Grote zaal (Anspachlaan 110\, 1000 Brussel)
DESCRIPTION:Onze favoriete funk soul god met gouden stem
URL;VALUE=URI:https://www.abconcerts.be/nl/agenda/jamie-lidell-and-the-royal-pharaohs/a105J000001wdU3QAI
UID:ABConcerts_event_e00aa95e-599e-11eb-8f0f-5254eb761bff
SEQUENCE:0
DTSTAMP:20260423T165112Z
END:VEVENT
END:VCALENDAR
