BEGIN:VCALENDAR
VERSION:2.0
PRODID:-ABConcerts-events
METHOD:PUBLISH
BEGIN:VEVENT
TRANSP:OPAQUE
DTSTART:20180408T170000
DTEND:20180408T223000
SUMMARY:James Holden & The Animal Spirits + Ammar 808 + Irreversible
 Entanglements + MDC III
LOCATION:AB Box (Anspachlaan 110\, 1000 Brussel)
DESCRIPTION:BRDCST: bezwerende electronica mét live band approved by\nThom Yorke
URL;VALUE=URI:https://www.abconcerts.be/nl/agenda/james-holden-the-animal-spirits-ammar-808-irreversible-entanglements-mdc-iii/a105J000001wdK3QAI
UID:ABConcerts_event_67fd5032-599f-11eb-b3ac-5254eb761bff
SEQUENCE:0
DTSTAMP:20260425T201239Z
END:VEVENT
END:VCALENDAR
