BEGIN:VCALENDAR
VERSION:2.0
PRODID:-ABConcerts-events
METHOD:PUBLISH
BEGIN:VEVENT
TRANSP:OPAQUE
DTSTART:20171006T200000
DTEND:20171006T223000
SUMMARY:J. Bernardt
LOCATION:AB Grote zaal (Anspachlaan 110\, 1000 Brussel)
DESCRIPTION:Balthazar-brein maakt solo-debuut met minimalistische R&B
URL;VALUE=URI:https://www.abconcerts.be/nl/agenda/j-bernardt/a105J000001wdOaQAI
UID:ABConcerts_event_8b32de54-59a0-11eb-8079-5254eb761bff
SEQUENCE:0
DTSTAMP:20260422T165729Z
END:VEVENT
END:VCALENDAR
