BEGIN:VCALENDAR
VERSION:2.0
PRODID:-ABConcerts-events
METHOD:PUBLISH
BEGIN:VEVENT
TRANSP:OPAQUE
DTSTART:20260502T180000
DTEND:20260502T220000
SUMMARY:Impro'Night Aladar
LOCATION:AB Salon - staand (Steenstraat 11\, 1000 Brussel)
DESCRIPTION:Zet je eerste stappen op het podium tijdens deze gezellige\njam!
URL;VALUE=URI:https://www.abconcerts.be/nl/agenda/impronight-aladar/a10Qw00000FrWFdIAN
UID:ABConcerts_event_1f127720-16a4-6d10-8eed-51c037bbadb3
SEQUENCE:0
DTSTAMP:20260422T151602Z
END:VEVENT
END:VCALENDAR
