BEGIN:VCALENDAR
VERSION:2.0
PRODID:-ABConcerts-events
METHOD:PUBLISH
BEGIN:VEVENT
TRANSP:OPAQUE
DTSTART:20140425T180000
DTEND:20140425T200000
SUMMARY:IBM [INSPIRED BY BLACK METAL] presents: lecture by Hunter Hu
nt-Hendrix (Liturgy)
LOCATION:AB Salon - zittend (Steenstraat 11\, 1000 Brussel)
DESCRIPTION:ƚBM (INSPIRED BY BLACK METAL)    ƚBM focust zich op de\ninvloed van black metal anno ’14 en speelt in op de\nbrandende actualiteit van het genre. Niet toevallig 30 jaar\nnadat de Noorse legendarische black metal band Mayhem werd\nopgericht. En niet toevallig 20 jaar nadat hun debuut ‘De\nMysteriis Dom Sathanas’ - een van de invloedrijkste black\nmetal albums ooit – verscheen.         HUNTER\nHUNT-HENDRIX: TRANSCENDENTAL BLACK METAL    Als\nfrontman/zanger van de controversiele Brooklynse black metal\nband Liturgy\, kennen we Hunter Hunt-Hendrix vooral van zijn\nonvoorstelbare krachtige stem en atypische look. In zijn\nmanifest Transcendental Black Metal: A Vision of Apocalyptic\nHumanism\, dat hij voorstelde op het Black Metal Theory\nSymposium I: Hideous Gnosis in december 2009\, werpt hij het\nidee op dat er een voortdurende evolutie in de geschiedenis\nvan extreme metal is. Hij schetst de verschillen tussen de\nEuropese (Hyperborean) en de Amerikaanse (Transcendental)\nmetal en dus tegelijk ook tussen de blast beat en de burts\nbeat. Hij benadert de (black) metal vanuit filosofisch\nstandpunt en neemt hier controversiële standpunten in.Anno\n2014 werkt Hunter Hunt-Hendrix aan een nieuwe versie van het\nmanifest en komt dit\, in het kader van de IBM reeks\nvoorstellen in Huis23.Inkom is gratis maar de plaatsen zijn\nbeperkt\, gelieve in te schrijven via\nreservationshuis23@abconcerts.be (met vermelding\n‘Hunter’)    Transcendental Black Metal:\nhttps://archive.org/details/TranscendentalBlackMetalInterview\nmet Hunter Hunt-Hendrix:\nhttp://www.redbullmusicacademy.com/magazine/liturgy-hunter-hunt-hendrix-interview\n
URL;VALUE=URI:https://www.abconcerts.be/nl/agenda/ibm-inspired-by-black-metal-presents-lecture-by-hunter-hunt-hendrix-liturgy/a105J000001wgtQQAQ
UID:ABConcerts_event_9c5cf274-599f-11eb-a558-5254eb761bff
SEQUENCE:0
DTSTAMP:20260422T230757Z
END:VEVENT
END:VCALENDAR
