BEGIN:VCALENDAR
VERSION:2.0
PRODID:-ABConcerts-events
METHOD:PUBLISH
BEGIN:VEVENT
TRANSP:OPAQUE
DTSTART:20140402T200000
DTEND:20140402T223000
SUMMARY:IBM [INSPIRED BY BLACK METAL] presents BOHREN & DER CLUB OF 
GORE
LOCATION:AB Club - staand (Anspachlaan 110\, 1000 Brussel)
DESCRIPTION:ƚBM [INSPIRED BY BLACK METAL]    ƚBM focust zich op de\ninvloed van black metal anno ’14 en speelt in op de\nbrandende actualiteit van het genre. Niet toevallig 30 jaar\nnadat de Noorse legendarische black metal band Mayhem werd\nopgericht. En niet toevallig 20 jaar nadat hun debuut ‘De\nMysteriis Dom Sathanas’ - een van de invloedrijkste black\nmetal albums ooit – verscheen.            BOHREN &amp; DER\nCLUB OF GORE (d)    Hun naam is afkomstig van hun adoratie\nvoor het inmiddels lang ter ziele gegane Nederlandse\ninstrumentale noise/hartcore gezelschap Gore. Hun muzikale\ninvloeden halen ze uit black metal\, Black Sabbath\, Twin\nPeaks én jazz. Bohren omschrijft hun muziek ook het liefst\nals ‘horror jazz’\, terwijl de sfeer van black metal\nonherroepelijk – zij het ongrijpbaar - aanwezig is.Niet\nalleen AB is fan – ze speelden reeds in dit huis in ’05\nen in ‘08 – maar ook Mike Patton die elk album van\nBohren (sinds hun klassieker ‘Black Earth’) uitbrengt op\nzijn eigen Ipecac label. Hun jongste en 8ste album draagt de\nnaam ‘Piano Nights’ mee en klinkt volgens Pichtfork\n“the same as their seventh\, sixth\, fifth\, fourth\,\nthird\, second\, and first. The mood is solemn\, the tempos\nare slow\, and each note carries within it the suggestion\nthat it might be the band’s last.” Erg? Helemaal niet!\nWant “it’s a show of commitment to an idea so elegant in\nits original design that changing it would constitute\nbetrayal.”
URL;VALUE=URI:https://www.abconcerts.be/nl/agenda/ibm-inspired-by-black-metal-presents-bohren-der-club-of-gore/a105J000001we4zQAA
UID:ABConcerts_event_72aa1746-599e-11eb-92dc-5254eb761bff
SEQUENCE:0
DTSTAMP:20260422T192128Z
END:VEVENT
END:VCALENDAR
