BEGIN:VCALENDAR
VERSION:2.0
PRODID:-ABConcerts-events
METHOD:PUBLISH
BEGIN:VEVENT
TRANSP:OPAQUE
DTSTART:20171202T210000
DTEND:20171202T223000
SUMMARY:IAMDDB
LOCATION:AB Club - staand (Anspachlaan 110\, 1000 Brussel)
DESCRIPTION:Soulful hip hop zangeres met unieke sound
URL;VALUE=URI:https://www.abconcerts.be/nl/agenda/iamddb/a105J000001wdKYQAY
UID:ABConcerts_event_5e92ec1e-599f-11eb-8b37-5254eb761bff
SEQUENCE:0
DTSTAMP:20260420T082318Z
END:VEVENT
END:VCALENDAR
