BEGIN:VCALENDAR
VERSION:2.0
PRODID:-ABConcerts-events
METHOD:PUBLISH
BEGIN:VEVENT
TRANSP:OPAQUE
DTSTART:20141113T180000
DTEND:20141113T190000
SUMMARY:HIPHOP40: Lecture Gilles Peterson - 'How hip hop affected my
 life'
LOCATION:AB Club - staand (Anspachlaan 110\, 1000 Brussel)
DESCRIPTION:Brits hiphop-icoon talkin’ loud about hip hop!
URL;VALUE=URI:https://www.abconcerts.be/nl/agenda/hiphop40-lecture-gilles-peterson-how-hip-hop-affected-my-life/a105J000001wdtBQAQ
UID:ABConcerts_event_ad8bc420-59a0-11eb-915d-5254eb761bff
SEQUENCE:0
DTSTAMP:20260423T091705Z
END:VEVENT
END:VCALENDAR
