BEGIN:VCALENDAR
VERSION:2.0
PRODID:-ABConcerts-events
METHOD:PUBLISH
BEGIN:VEVENT
TRANSP:OPAQUE
DTSTART:20171217T190000
DTEND:20171217T210000
SUMMARY:Granvat presents hoera.
LOCATION:AB Salon - zittend (Steenstraat 11\, 1000 Brussel)
DESCRIPTION:Het perfecte avontuurlijke aperitief voor uw Melanie De\nBiasio concert!
URL;VALUE=URI:https://www.abconcerts.be/nl/agenda/granvat-presents-hoera/a105J000001wdIsQAI
UID:ABConcerts_event_787ab3e0-59a0-11eb-b6fb-5254eb761bff
SEQUENCE:0
DTSTAMP:20260420T053350Z
END:VEVENT
END:VCALENDAR
