BEGIN:VCALENDAR
VERSION:2.0
PRODID:-ABConcerts-events
METHOD:PUBLISH
BEGIN:VEVENT
TRANSP:OPAQUE
DTSTART:20260203T190000
DTEND:20260203T223000
SUMMARY:grandson
LOCATION:AB Ballroom (Anspachlaan 110\, 1000 Brussel)
DESCRIPTION:Inertia Tour
URL;VALUE=URI:https://www.abconcerts.be/nl/agenda/grandson/a10Qw0000099aS5IAI
UID:ABConcerts_event_1f078f08-e96d-6cca-858b-81c133116692
SEQUENCE:0
DTSTAMP:20260420T021236Z
END:VEVENT
END:VCALENDAR
