BEGIN:VCALENDAR
VERSION:2.0
PRODID:-ABConcerts-events
METHOD:PUBLISH
BEGIN:VEVENT
TRANSP:OPAQUE
DTSTART:20141018T200000
DTEND:20141018T223000
SUMMARY:Geppetto & The Whales
LOCATION:AB Club - staand (Anspachlaan 110\, 1000 Brussel)
DESCRIPTION:De stap richting volle wasdom met debuut ‘Heads Of Woe’.
URL;VALUE=URI:https://www.abconcerts.be/nl/agenda/geppetto-the-whales/a105J000001wgvBQAQ
UID:ABConcerts_event_3a4662ae-59a0-11eb-b234-5254eb761bff
SEQUENCE:0
DTSTAMP:20260421T122554Z
END:VEVENT
END:VCALENDAR
