BEGIN:VCALENDAR
VERSION:2.0
PRODID:-ABConcerts-events
METHOD:PUBLISH
BEGIN:VEVENT
TRANSP:OPAQUE
DTSTART:20160615T200000
DTEND:20160615T233000
SUMMARY:Gelukkig Zijn Sessie: Zon, zee en zomer + Afterparty met DJ 
Te Ki La
LOCATION:AB Club - staand (Anspachlaan 110\, 1000 Brussel)
DESCRIPTION:Afsluiter van een prachtig Gelukkig Zijn seizoen
URL;VALUE=URI:https://www.abconcerts.be/nl/agenda/gelukkig-zijn-sessie-zon-zee-en-zomer-afterparty-met-dj-te-ki-la/a105J000001wdYUQAY
UID:ABConcerts_event_d484676c-59a0-11eb-a203-5254eb761bff
SEQUENCE:0
DTSTAMP:20260423T182658Z
END:VEVENT
END:VCALENDAR
