BEGIN:VCALENDAR
VERSION:2.0
PRODID:-ABConcerts-events
METHOD:PUBLISH
BEGIN:VEVENT
TRANSP:OPAQUE
DTSTART:20161203T200000
DTEND:20161203T223000
SUMMARY:Gallant
LOCATION:AB Club - staand (Anspachlaan 110\, 1000 Brussel)
DESCRIPTION:Concert geannuleerd!
URL;VALUE=URI:https://www.abconcerts.be/nl/agenda/gallant/a105J000001wdSKQAY
UID:ABConcerts_event_ea93b698-59a0-11eb-813f-5254eb761bff
SEQUENCE:0
DTSTAMP:20260420T023419Z
END:VEVENT
END:VCALENDAR
