BEGIN:VCALENDAR
VERSION:2.0
PRODID:-ABConcerts-events
METHOD:PUBLISH
BEGIN:VEVENT
TRANSP:OPAQUE
DTSTART:20130609T200000
DTEND:20130609T223000
SUMMARY:Gabrielle Aplin + Saint Raymond
LOCATION:AB Club - staand (Anspachlaan 110\, 1000 Brussel)
DESCRIPTION:Whip smart self taught UK song sensation!
URL;VALUE=URI:https://www.abconcerts.be/nl/agenda/gabrielle-aplin-saint-raymond/a105J000001wdzbQAA
UID:ABConcerts_event_b1a8a848-59a0-11eb-9d41-5254eb761bff
SEQUENCE:0
DTSTAMP:20260419T192244Z
END:VEVENT
END:VCALENDAR
