BEGIN:VCALENDAR
VERSION:2.0
PRODID:-ABConcerts-events
METHOD:PUBLISH
BEGIN:VEVENT
TRANSP:OPAQUE
DTSTART:20141016T200000
DTEND:20141016T223000
SUMMARY:FKA twigs
LOCATION:AB Box (Anspachlaan 110\, 1000 Brussel)
DESCRIPTION:BBC Sound of 2014’s meest beloftevolle debutante.
URL;VALUE=URI:https://www.abconcerts.be/nl/agenda/fka-twigs/a105J000001wgw0QAA
UID:ABConcerts_event_354c32a6-59a0-11eb-9adf-5254eb761bff
SEQUENCE:0
DTSTAMP:20260422T213648Z
END:VEVENT
END:VCALENDAR
